BEGIN:VCALENDAR
VERSION:2.0
PRODID:-//Biketreff Baar und Cham//NONSGML kigkonsult.se iCalcreator 2.30.1
 0//
CALSCALE:GREGORIAN
METHOD:PUBLISH
UID:b678ad16-91ca-409d-bf49-a28e961aa9e6
X-WR-CALNAME:iCagenda
X-WR-CALDESC:Event Management Extension for Joomla!
X-WR-RELCALID:3E26604A-50F4-4449-8B3E-E4F4932D05B5
X-WR-TIMEZONE:UTC
BEGIN:VTIMEZONE
TZID:UTC
END:VTIMEZONE
BEGIN:VEVENT
UID:bd644e22-a916-44f2-b199-a629dd55d929
DTSTAMP:20260419T160748Z
CATEGORIES:Veranstaltung
CLASS:PUBLIC
DESCRIPTION;ALTREP="CID:<FFFF__=0ABBE548DFE235B58f9e8a93d@coffeebean.com>":
 Diese Veranstaltung wird von der IG Mountainbike Zug durchgeführt.\n&nbsp\
 ;\n\n
DTSTART:20260614T215900Z
DTEND:20260614T215900Z
GEO:00;0
LOCATION:
ORGANIZER:
SEQUENCE:1
SUMMARY:10 Jahre Zugerbergtrail
TRANSP:OPAQUE
URL:https://www.biketreff-baar-cham.ch/index.php/veranstaltungen/49-10-jahr
 e-zugerbergtrail
END:VEVENT
END:VCALENDAR
