BEGIN:VCALENDAR
VERSION:2.0
PRODID:-//Biketreff Baar und Cham//NONSGML kigkonsult.se iCalcreator 2.30.1
 0//
CALSCALE:GREGORIAN
METHOD:PUBLISH
UID:c072389c-39aa-4625-982f-b75d0a51936e
X-WR-CALNAME:iCagenda
X-WR-CALDESC:Event Management Extension for Joomla!
X-WR-RELCALID:3E26604A-50F4-4449-8B3E-E4F4932D05B5
X-WR-TIMEZONE:UTC
BEGIN:VTIMEZONE
TZID:UTC
END:VTIMEZONE
BEGIN:VEVENT
UID:3511f75b-ff5c-40a0-b3fa-36d5089b40fa
DTSTAMP:20260419T160732Z
CATEGORIES:Veranstaltung
CLASS:PUBLIC
DESCRIPTION;ALTREP="CID:<FFFF__=0ABBE548DFE235B58f9e8a93d@coffeebean.com>":
 Enge Kurven &amp\; Switchbacks sicher fahren\n2-Abend-MTB-Technikkurs · Re
 gion Zug\nEnge Kurven und Switchbacks gehören zu den technisch anspruchsvo
 llsten Situationen auf dem Mountainbike. Saubere Linienwahl\, korrektes Te
 mpo und die richtige Körperposition sind entscheidend\, um diese Passagen 
 kontrolliert\, flüssig und sicher zu fahren.&nbsp\;In diesem zweitägigen A
 bendkurs erarbeiten wir die Technik Schritt für Schritt und setzen sie dir
 ekt im Gelände um.\nKursdaten\n\n\nDauer: 2 Abende\n\n\nZeit: jeweils 18:3
 0 – 20:30 Uhr\n\n\nOrt:&nbsp\;Baar\, Eingang Parking Spinnerei an der Lorz
 e\n\n\nKursinhalt\n\n\nGrund- und Aktivposition mit der Blickführung in en
 gen Kurven\n\n\nLinienwahl und Tempokontrolle\n\n\nGewichtsverlagerung und
  Bike-Neigung\n\n\nTechnik für enge Kurven bergauf und bergab\n\n\nSwitchb
 ack-Technik (Hinterrad versetzen)\n\n\nPraktische Übungen mit individuelle
 n Korrekturen\n\n\nZielgruppe\n\n\nMTB-Fahrer:innen mit ersten Fahrerfahru
 ngen\n\n\nAlle\, die enge Kurven und Switchbacks sicherer und flüssiger fa
 hren möchten\n\n\nGeeignet für Einsteiger:innen bis leicht Fortgeschritten
 e\n\n\nVoraussetzungen\n\n\nSicheres Fahren auf einfachen Trails\n\n\nFunk
 tionstüchtiges Mountainbike\n\n\nHelm (obligatorisch)\, Handschuhe empfohl
 en\n\n\nTeilnehmerzahl\n\n\nBeschränkt\, um gezieltes Feedback und individ
 uelles Coaching zu ermöglichen\n\n
DTSTART:20260430T183000Z
DTEND:20260430T203000Z
GEO:00;0
LOCATION:Zugerberg
ORGANIZER;CN=:martin.wismer@gmail.com
SEQUENCE:1
SUMMARY:Enge Kurven & Switchback Woche
TRANSP:OPAQUE
URL:https://www.biketreff-baar-cham.ch/index.php/veranstaltungen/45-enge-ku
 rven-und-switchbacks/2026-04-30-18-30
END:VEVENT
END:VCALENDAR
