BEGIN:VCALENDAR
VERSION:2.0
PRODID:-//Biketreff Baar und Cham//NONSGML kigkonsult.se iCalcreator 2.30.1
 0//
CALSCALE:GREGORIAN
METHOD:PUBLISH
UID:c11ce74c-f1be-4d10-a149-938e7a5c707b
X-WR-CALNAME:iCagenda
X-WR-CALDESC:Event Management Extension for Joomla!
X-WR-RELCALID:3E26604A-50F4-4449-8B3E-E4F4932D05B5
X-WR-TIMEZONE:UTC
BEGIN:VTIMEZONE
TZID:UTC
END:VTIMEZONE
BEGIN:VEVENT
UID:a861d892-119c-4d56-80f4-21b005b3cc46
DTSTAMP:20260419T163015Z
CATEGORIES:Veranstaltung
CLASS:PUBLIC
DESCRIPTION;ALTREP="CID:<FFFF__=0ABBE548DFE235B58f9e8a93d@coffeebean.com>":
 Bunny Hop Einsteigerkurs\n2 Abende MTB-Techniktraining · Region Zug\nDer B
 unny Hop ist eine der wichtigsten Grundtechniken im Mountainbiken. Er hilf
 t\, Hindernisse sicher zu überwinden\, Linien sauber zu fahren und mehr Ko
 ntrolle auf dem Trail zu gewinnen. In diesem zweitägigen Einsteigerkurs er
 lernen wir den Bunny Hop systematisch von Grund auf – mit Fokus auf sauber
 e Technik\, Körperspannung und korrektes Timing.\nKursdaten\n\n\nDaten: 2 
 Abende (aufeinanderfolgend oder gemäss Ausschreibung)\n\n\nZeit: jeweils 1
 8:30 – 20:30 Uhr\n\n\nOrt: Region Zug (genauer Treffpunkt wird bekannt geg
 eben)\n\n\nKursinhalt\n\n\nGrundposition auf dem Mountainbike\n\n\nGewicht
 sverlagerung und Bewegungsabläufe\n\n\nFrontwheel- und Rearwheel-Lift\n\n
 \nZusammensetzen der Technik zum Bunny Hop\n\n\nPraktische Übungen mit kle
 inen Hindernissen\n\n\nIndividuelle Korrekturen und Feedback\n\n\nZielgrup
 pe\n\n\nEinsteiger:innen\n\n\nMTB-Fahrer:innen\, die den Bunny Hop sauber 
 und kontrolliert erlernen möchten\n\n\nKeine Vorkenntnisse im Bunny Hop er
 forderlich\n\n\nVoraussetzungen\n\n\nSicheres Fahren auf einfachen Wegen\n
 \n\nFlatpedale (zwingend erforderlich)\n\nNur mit Flatpedalen kann die Tec
 hnik korrekt\, sicher und nachhaltig erlernt werden\n\n\n\nFunktionstüchti
 ges Mountainbike\n\n\nHelm (obligatorisch)\, Handschuhe empfohlen\n\n\nTei
 lnehmerzahl\n\n\nBeschränkt\, um individuelles Coaching zu ermöglichen\n\n
DTSTART:20260505T183000Z
DTEND:20260505T203000Z
GEO:00;0
LOCATION:Cham
ORGANIZER;CN=:martin.wismer@gmail.com
SEQUENCE:1
SUMMARY:Bunnyhop Woche
TRANSP:OPAQUE
URL:https://www.biketreff-baar-cham.ch/index.php/veranstaltungen/44-bunnyho
 p-week/2026-05-05-18-30
END:VEVENT
END:VCALENDAR
