BEGIN:VCALENDAR
VERSION:2.0
PRODID:-//Biketreff Baar und Cham//NONSGML kigkonsult.se iCalcreator 2.30.1
 0//
CALSCALE:GREGORIAN
METHOD:PUBLISH
UID:a2a2a5eb-f960-4591-9dca-a980b904b304
X-WR-CALNAME:iCagenda
X-WR-CALDESC:Event Management Extension for Joomla!
X-WR-RELCALID:3E26604A-50F4-4449-8B3E-E4F4932D05B5
X-WR-TIMEZONE:UTC
BEGIN:VTIMEZONE
TZID:UTC
END:VTIMEZONE
BEGIN:VEVENT
UID:fa5063ac-8ec5-4e26-b292-a41a60a9fe75
DTSTAMP:20260419T161654Z
CATEGORIES:Veranstaltung
CLASS:PUBLIC
DESCRIPTION;ALTREP="CID:<FFFF__=0ABBE548DFE235B58f9e8a93d@coffeebean.com>":
 Egal\, ob du gerade erst ins Mountainbiken hineinschnupperst oder schon lä
 nger auf Trails unterwegs bist – du bist willkommen\, genau so wie du bist
 . Bei uns geht es nicht darum\, mutiger zu sein als du dich fühlst\, sonde
 rn Schritt für Schritt Vertrauen in dich und dein Bike aufzubauen.\nIn ein
 em ausgewogenen Mix aus professionellem MTB-Coaching und einer entspannten
 \, unterstützenden Atmosphäre unter Frauen lernst du in deinem Tempo dazu.
  Gemeinsam (E-)biken wir\, lachen\, tauschen Erfahrungen aus und feiern kl
 eine wie große Fortschritte. Ganz ohne Druck\, ohne Vergleiche – dafür mit
  viel Freude am Fahren.\nErlebe einen Tag\, der ganz dir und deiner Mounta
 inbike-Leidenschaft gewidmet ist: mit einfühlsamen\, erfahrenen Guides\, d
 ie dich sicher auf das nächste Level begleiten\, lokalen Trails\, die wir 
 unbeschwert und mit neuem Selbstvertrauen fahren\, und einem entspannten A
 usklang bei einem Sundowner direkt am See.\n&nbsp\;\nProgramm:\nBike-Check
  und Setup\nPosition auf dem Bike\nBalance und Gleichgewicht\nBremstechnik
 \nKurventechnik und Blickführung\nStoppen und Anfahren im Gelände\nKleine 
 Hindernisse und Stufen überwinden\n&nbsp\;\nMitnehmen und exklusiv:\nZwisc
 henverpflegung\, Mittagsverpflegung aus dem Rucksack\,\nGetränke unterwegs
 \nGeld für Bahnticket\nHelm\, Handschuhe\, dem Wetter angepasste Kleidung
 \nserviciertes Mountainbike
DTSTART:20260530T090000Z
DTEND:20260530T163000Z
GEO:00;0
LOCATION:Baar
ORGANIZER;CN=:martin.wismer@gmail.com
SEQUENCE:1
SUMMARY:Mountainbike Fahrtechnikkurs - women only
TRANSP:OPAQUE
URL:https://www.biketreff-baar-cham.ch/index.php/veranstaltungen/43-mountai
 nbike-fahrtechnikkurs-women-only/2026-05-30-09-00
END:VEVENT
END:VCALENDAR
