BEGIN:VCALENDAR
VERSION:2.0
PRODID:-//Biketreff Baar und Cham//NONSGML kigkonsult.se iCalcreator 2.30.1
 0//
CALSCALE:GREGORIAN
METHOD:PUBLISH
UID:91968168-cd60-4591-9305-275db8cb4d55
X-WR-CALNAME:iCagenda
X-WR-CALDESC:Event Management Extension for Joomla!
X-WR-RELCALID:3E26604A-50F4-4449-8B3E-E4F4932D05B5
X-WR-TIMEZONE:UTC
BEGIN:VTIMEZONE
TZID:UTC
END:VTIMEZONE
BEGIN:VEVENT
UID:14c83a77-d9b1-4a98-a5ef-d06fac331978
DTSTAMP:20260419T161106Z
CATEGORIES:Veranstaltung
CLASS:PUBLIC
DESCRIPTION;ALTREP="CID:<FFFF__=0ABBE548DFE235B58f9e8a93d@coffeebean.com>":
 Bei dieser Tagestour in der Region Zug fahren wird diverse S1-S2+ Trails. 
 Bei diversen Trail-Segmenten lernen wir:\n\ndiese auf Gefahren einzuschätz
 en\ndie verschiedenen Linien nach Schwierigkeitsstufe zu beurteilen\ndie T
 echnik\, um dieses Segment erfolgreich zu fahren\n\nWährend des Tages lern
 en wir richtiges bremsen\, kurven fahren\, einfach Sprünge\, kleine Drops\
 , steile Passagen fahren und vieles mehr.\nIm Bild oben: ein Teil der Grup
 pe vom Kurs 2024
DTSTART:20260502T083000Z
DTEND:20260502T160000Z
GEO:00;0
LOCATION:Bikecorner Baar
ORGANIZER;CN=:tonik173@me.com
SEQUENCE:1
SUMMARY:Trailkurs für Mountainbike und E-Bike
TRANSP:OPAQUE
URL:https://www.biketreff-baar-cham.ch/index.php/veranstaltungen/42-trailku
 rs-fortgeschritten-fuer-mountainbike-und-e-bike-2
END:VEVENT
END:VCALENDAR
