BEGIN:VCALENDAR
VERSION:2.0
PRODID:-//Biketreff Baar und Cham//NONSGML kigkonsult.se iCalcreator 2.30.1
 0//
CALSCALE:GREGORIAN
METHOD:PUBLISH
UID:300f136d-d1d0-4569-a976-ebbf575d6161
X-WR-CALNAME:iCagenda
X-WR-CALDESC:Event Management Extension for Joomla!
X-WR-RELCALID:3E26604A-50F4-4449-8B3E-E4F4932D05B5
X-WR-TIMEZONE:UTC
BEGIN:VTIMEZONE
TZID:UTC
END:VTIMEZONE
BEGIN:VEVENT
UID:d92f0013-c7b2-4d2a-9cc9-e622aa4db633
DTSTAMP:20260419T160724Z
CATEGORIES:Veranstaltung
CLASS:PUBLIC
DESCRIPTION;ALTREP="CID:<FFFF__=0ABBE548DFE235B58f9e8a93d@coffeebean.com>":
 Bei dieser Abendtour in der Region Zug fahren wird diverse S1 und S2 Trail
 s. Das Hauptthema ist dabei das&nbsp\;Hinterradumsetzen.In einem ersten Te
 il üben wir die Grundlagen auf offenem Gelände. Danach geht es in die Trai
 ls um das Gelernte zu vertiefen und anzuwenden.
DTSTART:20260619T173000Z
DTEND:20260619T213000Z
GEO:00;0
LOCATION:Bikecorner Baar
ORGANIZER;CN=:tonik173@me.com
SEQUENCE:1
SUMMARY:Trailkurs am Abend mit Schwerpunktthema Hinterradumsetzen
TRANSP:OPAQUE
URL:https://www.biketreff-baar-cham.ch/index.php/veranstaltungen/41-trailku
 rs-am-abend-2
END:VEVENT
END:VCALENDAR
